BEGIN:VCALENDAR
VERSION:2.0
PRODID:-//Flowtious Soul Yoga - ECPv6.15.20//NONSGML v1.0//EN
CALSCALE:GREGORIAN
METHOD:PUBLISH
X-ORIGINAL-URL:https://flowtioussoulyoga.com
X-WR-CALDESC:Events for Flowtious Soul Yoga
REFRESH-INTERVAL;VALUE=DURATION:PT1H
X-Robots-Tag:noindex
X-PUBLISHED-TTL:PT1H
BEGIN:VTIMEZONE
TZID:America/New_York
BEGIN:DAYLIGHT
TZOFFSETFROM:-0500
TZOFFSETTO:-0400
TZNAME:EDT
DTSTART:20220313T070000
END:DAYLIGHT
BEGIN:STANDARD
TZOFFSETFROM:-0400
TZOFFSETTO:-0500
TZNAME:EST
DTSTART:20221106T060000
END:STANDARD
BEGIN:DAYLIGHT
TZOFFSETFROM:-0500
TZOFFSETTO:-0400
TZNAME:EDT
DTSTART:20230312T070000
END:DAYLIGHT
BEGIN:STANDARD
TZOFFSETFROM:-0400
TZOFFSETTO:-0500
TZNAME:EST
DTSTART:20231105T060000
END:STANDARD
BEGIN:DAYLIGHT
TZOFFSETFROM:-0500
TZOFFSETTO:-0400
TZNAME:EDT
DTSTART:20240310T070000
END:DAYLIGHT
BEGIN:STANDARD
TZOFFSETFROM:-0400
TZOFFSETTO:-0500
TZNAME:EST
DTSTART:20241103T060000
END:STANDARD
END:VTIMEZONE
BEGIN:VEVENT
DTSTART;TZID=America/New_York:20231014T111500
DTEND;TZID=America/New_York:20231014T143000
DTSTAMP:20260419T093733
CREATED:20231005T181202Z
LAST-MODIFIED:20231006T170349Z
UID:1357-1697282100-1697293800@flowtioussoulyoga.com
SUMMARY:GTA Grand-Reopening Yoga Class
DESCRIPTION:Join me on October 15th from 11:15a-2:30p for GTA Fitness & Performance Grand Re-Opening. Come try out a couple of classes and then enjoy some brunch\, vines and mimosas. I will be teaching yoga at 12pm. This event is free but we ask for suggested donations of $20 ($gtafit) to help support us. We look forward to seeing you there. \nSign up here: https://app.glofox.com/portal/#/branch/63daa9c74431faa7ca08fce4/classes-week-view/651050593f912bef780193f4/book?book_from=1697256000
URL:https://flowtioussoulyoga.com/calendar/gta-grand-reopening-yoga-class/
LOCATION:GTA Fitness & Perfomance\, 4122 Bennett Memorial Drive Ste. 107\, Durham\, NC\, 27705\, United States
ATTACH;FMTTYPE=image/png:https://flowtioussoulyoga.com/wp-content/uploads/2023/10/1.png
END:VEVENT
END:VCALENDAR